BEGIN:VCALENDAR
VERSION:2.0
PRODID:-//wp-events-plugin.com//7.2.3.1//EN
BEGIN:VEVENT
UID:1174@zbglems.de
DTSTART:20251018T183000Z
DTEND:20251018T210000Z
DTSTAMP:20251012T171907Z
URL:https://zbglems.de/veranstaltungen/willy-the-poor-boys/
SUMMARY:Willy & the poor boys
DESCRIPTION:Näher an CCR kommt niemand und näher an der ultimativen Party
  ist auch keine Band[su_spoiler title="mehr lesen" open="no"]\n\nEintritt:
  16 €\n[/su_spoiler]
CATEGORIES:Veranstaltungen
LOCATION:Hirsch\, Glems\, Eninger Str. 11\, Metzingen Glems\, Baden- Württ
 emberg\, 72555\, Metzingen / Glems\, Deutschland
X-APPLE-STRUCTURED-LOCATION;VALUE=URI;X-ADDRESS=Eninger Str. 11\, Metzingen
  Glems\, Baden- Württemberg\, 72555\, Metzingen / Glems\, Deutschland;X-A
 PPLE-RADIUS=100;X-TITLE=Hirsch\, Glems:geo:0,0
END:VEVENT
END:VCALENDAR