BEGIN:VCALENDAR
VERSION:2.0
PRODID:-//wp-events-plugin.com//7.2.3.1//EN
BEGIN:VEVENT
UID:1259@zbglems.de
DTSTART:20261023T183000Z
DTEND:20261023T210000Z
DTSTAMP:20260219T144536Z
URL:https://zbglems.de/veranstaltungen/werner-koczwara-ernst-mantel-verein
 tes-lachwerk/
SUMMARY:Werner Koczwara & Ernst Mantel    Vereintes Lachwerk
DESCRIPTION:Das Gipfeltreffen des schwäbischen Humors. Mit Koczwara und Ma
 ntel haben sich zwei der komischsten Humorschaffenden Süddeutschlands zus
 ammengetan: Ernst Mantel\, bis zu deren Trennung Mitglied der "Kleinen Tie
 rschau"\, sowie doppelt ausgezeichneter Träger des Baden-Württembergisch
 en Kleinkunstpreises. Und Werner Koczwara\, der mit seinem Programm "Der w
 üstenrote Neandertaler oder wie aus Affen Bausparer wurde" ein auch bunde
 sweit hoch gelobtes Schwabenkabarett auf die Bühne gebracht hat. Sein Buc
 h "Am achten Tag schuf Gott den Rechtsanwalt" rangierte viele Wochen auf d
 er Spiegel-Bestsellerliste.[su_spoiler title="mehr lesen" open="no"]\n\n
 ​Eintritt: 20 €\n[/su_spoiler]
ATTACH;FMTTYPE=image/jpeg:https://zbglems.de/wp-content/uploads/2026/02/IM
 G_7920k-1.jpg
CATEGORIES:Veranstaltungen
LOCATION:Hirsch\, Glems\, Eninger Str. 11\, Metzingen Glems\, Baden- Württ
 emberg\, 72555\, Metzingen / Glems\, Deutschland
X-APPLE-STRUCTURED-LOCATION;VALUE=URI;X-ADDRESS=Eninger Str. 11\, Metzingen
  Glems\, Baden- Württemberg\, 72555\, Metzingen / Glems\, Deutschland;X-A
 PPLE-RADIUS=100;X-TITLE=Hirsch\, Glems:geo:0,0
END:VEVENT
END:VCALENDAR