BEGIN:VCALENDAR
VERSION:2.0
PRODID:-//wp-events-plugin.com//7.2.3.1//EN
BEGIN:VEVENT
UID:1163@zbglems.de
DTSTART:20261106T183000Z
DTEND:20261106T210000Z
DTSTAMP:20260228T121519Z
URL:https://zbglems.de/veranstaltungen/vanja-sky-band/
SUMMARY:Vanja Sky Band
DESCRIPTION:Vanja Sky Simple Man Live @ Open Air SchlachtGarten Krefeld Ger
 many 2021\n\nVanja Sky begann mit 19 Jahren\, Gitarre zu spielen. Zwei Jah
 re später schloss sie sich einer Band in Zagreb an. 2018 veröffentlich
 te sie ihr Debütalbum Bad Penny auf Ruf Records und tourte im Rahmen 
 der ebenfalls von Ruf Records organisierten Konzertreihe Blues Caravan z
 usammen mit Bernard Allison und Mike Zito durch Europa. 2018 wurde ein
 e CD/DVD dieser Konzertreihe veröffentlicht.\n\n2019 trat sie in Deutschl
 and gemeinsam mit der US-amerikanischen Gruppe Jane Lee Hooker bei den 
 Rother Bluestagen[1] auf und tourte mit ihrer eigenen Band erstmals als H
 eadliner sowie Support für die englische Band UFO[2] und die Woodstock
 -Ikonen Canned Heat[3] in Europa.\n\nDas zweite Album Woman Named Troub
 le wurde vom Rocks Magazin neben den Veröffentlichungen von AC/DC\, 
 Deep Purple\, Bob Dylan und Bruce Springsteen als eine der besten im J
 ahr 2020 herausgebrachten Platten ausgewählt.[su_spoiler title="mehr lese
 n" open="no"]2021/22 fand eine über 70 Konzerte umfassende Europatournee 
 statt\, bei der Sky u. a. bei gemeinsamen Sessions zusammen mit dem Humb
 le-Pie-Gitarristen Clem Clempson\, Colosseum-Sänger Chris Farlowe und
  The God of Hellfire Arthur Brown auf der Bühne stand. Für die WDR-F
 ernsehsendung Rockpalast wurde ein Konzert in der Harmonie Bonn mitges
 chnitten und gesendet.[4]\n\n2022 veröffentlichte Vanja Sky zusammen mit 
 dem Sänger Carl Sentance der Band Nazareth eine Single und ein Video 
 zu Müha – See You Again.[5] Dieser Titel ist auch auf dem 2023 erschi
 enenen dritten Album reborn zu hören. Neben acht Eigenkompositionen ent
 hält das Album auch zwei Coverversionen\, bei denen als Gäste Mitglieder
  der jeweiligen Originalbands mitwirkten. Bei der Neuaufnahme des Titels 
 I’d Love To Change The World spielte Ric Lee\, Gründungsmitglied von 
 Ten Years After\, das Schlagzeug neu ein. Bei der Neuaufnahme von I Take 
 What I Want übernahm Gerry McAvoy den Basspart.[6]\n\n 	Vanja Sky (Ges
 ang\, Gitarre)\n 	Guenter Haas (Gitarre)\n 	Werner Kolb (Bass)\n 	Hannes H
 offmann (Schlagzeug)\n\n&nbsp\;\n\nEintritt: 18 €\n[/su_spoiler]
ATTACH;FMTTYPE=image/jpeg:https://zbglems.de/wp-content/uploads/2025/05/OI
 P.jpg
CATEGORIES:Veranstaltungen
LOCATION:Hirsch\, Glems\, Eninger Str. 11\, Metzingen Glems\, Baden- Württ
 emberg\, 72555\, Metzingen / Glems\, Deutschland
X-APPLE-STRUCTURED-LOCATION;VALUE=URI;X-ADDRESS=Eninger Str. 11\, Metzingen
  Glems\, Baden- Württemberg\, 72555\, Metzingen / Glems\, Deutschland;X-A
 PPLE-RADIUS=100;X-TITLE=Hirsch\, Glems:geo:0,0
END:VEVENT
END:VCALENDAR