BEGIN:VCALENDAR
VERSION:2.0
PRODID:-//wp-events-plugin.com//7.2.3.1//EN
BEGIN:VEVENT
UID:1255@zbglems.de
DTSTART:20260612T183000Z
DTEND:20260612T210000Z
DTSTAMP:20260217T181615Z
URL:https://zbglems.de/veranstaltungen/samnas/
SUMMARY:Samnas
DESCRIPTION:Samnas – das bedeutet in der Sprache der Dioula aus Westafri
 ka Feuer- und steht für die Leidenschaft und Spielfreude\, mit der die K
 ünstler William Jammeh\, Mamady Kouyate und Alex Geiger ihre Programme da
 rbieten.\n\nDabei zeigen sie eine fulminante Mischung aus westafrikanische
 n Rhythmen\, virtuosen Balafonmelodien sowie Artistik\, Tanz und Entertain
 ment.[su_spoiler title="mehr lesen" open="no"]\n\nAtemberaubende Percussio
 n auf  Djemben und Dunun\, fesselnde Jonglagen im Stil des Cirque Nouveau
 \, Rhythmen und Lieder\, die unweigerlich ins Herz und die Beine gehen und
  zuguterletzt der Dialog mit dem Publikum:\n\nSamnas…der Funke springt 
 über!!!\n\n&nbsp\;\n\n​Eintritt: 14 €\n[/su_spoiler]
ATTACH;FMTTYPE=image/jpeg:https://zbglems.de/wp-content/uploads/2026/02/sa
 mnas_2019_1200b.jpg
CATEGORIES:Veranstaltungen
LOCATION:Hirsch\, Glems\, Eninger Str. 11\, Metzingen Glems\, Baden- Württ
 emberg\, 72555\, Metzingen / Glems\, Deutschland
X-APPLE-STRUCTURED-LOCATION;VALUE=URI;X-ADDRESS=Eninger Str. 11\, Metzingen
  Glems\, Baden- Württemberg\, 72555\, Metzingen / Glems\, Deutschland;X-A
 PPLE-RADIUS=100;X-TITLE=Hirsch\, Glems:geo:0,0
END:VEVENT
END:VCALENDAR