BEGIN:VCALENDAR
VERSION:2.0
PRODID:-//wp-events-plugin.com//7.2.3.1//EN
BEGIN:VEVENT
UID:1257@zbglems.de
DTSTART:20261016T183000Z
DTEND:20261016T210000Z
DTSTAMP:20260219T143942Z
URL:https://zbglems.de/veranstaltungen/poems-on-the-rocks/
SUMMARY:Poems on the Rocks
DESCRIPTION:Im Jahre 2004 brachten POEMS ON THE ROCKS\, eine Formation aus 
 dem Raum Stuttgart\, als eine der\nersten in Deutschland\, ein neues Musik
 konzept auf die Bühne: Rockmusik mit deutschen\nÜbersetzungen der gelieb
 ten englischsprachigen Rocksongs und deren o kryptischen Inhalten. Und\nen
 dlich erfuhr das Publikum\, um was es in den Liedern eigentlich ging.\nSch
 auspieler JO JUNG\, Stimme vieler Produktionen von ZDF\, ARTE und SWR\, ü
 bersetzt stets am\nKern der Songs\, in lyrischer Form und erschafft mit fa
 cettenreicher Mimik und Sprache einmalige\nRezitate. [su_spoiler title="me
 hr lesen" open="no"]\nFür das Jubiläumsjahr 2024 tauchten sie wieder tie
 f ein in die Schatzkiste der Rockgeschichte und\nbrachten neue hochkaräti
  ge Rockperlen auf die Bühnen süddeutscher Locatuons.\nDie Interpretenli
 ste des neuen Jubiläumsprogramms ist bunt und vielfältig: CSN\, Neil You
 ng\, David\nBowie\, The Beatles\, Nick Kershaw\, Sting \, Peter Gabriel un
 d Pink Floyd.\n\n​Eintritt: 18 €\n[/su_spoiler]
ATTACH;FMTTYPE=image/jpeg:https://zbglems.de/wp-content/uploads/2026/02/66
 11.jpg
CATEGORIES:Veranstaltungen
LOCATION:Hirsch\, Glems\, Eninger Str. 11\, Metzingen Glems\, Baden- Württ
 emberg\, 72555\, Metzingen / Glems\, Deutschland
X-APPLE-STRUCTURED-LOCATION;VALUE=URI;X-ADDRESS=Eninger Str. 11\, Metzingen
  Glems\, Baden- Württemberg\, 72555\, Metzingen / Glems\, Deutschland;X-A
 PPLE-RADIUS=100;X-TITLE=Hirsch\, Glems:geo:0,0
END:VEVENT
END:VCALENDAR