BEGIN:VCALENDAR
VERSION:2.0
PRODID:-//wp-events-plugin.com//7.2.3.1//EN
BEGIN:VEVENT
UID:1260@zbglems.de
DTSTART:20261024T183000Z
DTEND:20261024T210000Z
DTSTAMP:20260219T144630Z
URL:https://zbglems.de/veranstaltungen/norman-beaker/
SUMMARY:Norman Beaker
DESCRIPTION:Norman Beakers Vergangenheit liest sich wie das who is who des 
 Blues.\nJimmy Page und Robert Plant\, Dick Heckstall-Smith und Chris B
 arber.\nPeter Green\, Chris Farlowe\, Eric Burdon\, Paul Burgess von 10C
 C oder Ruby Turner\nUnd der bescheidene kleine Mann spielt doch nur den B
 lues....\n[su_spoiler title="mehr lesen" open="no"]\nEintritt: 16 €\n[/s
 u_spoiler]
ATTACH;FMTTYPE=image/jpeg:https://zbglems.de/wp-content/uploads/2026/02/im
 age.jpg
CATEGORIES:Veranstaltungen
LOCATION:Hirsch\, Glems\, Eninger Str. 11\, Metzingen Glems\, Baden- Württ
 emberg\, 72555\, Metzingen / Glems\, Deutschland
X-APPLE-STRUCTURED-LOCATION;VALUE=URI;X-ADDRESS=Eninger Str. 11\, Metzingen
  Glems\, Baden- Württemberg\, 72555\, Metzingen / Glems\, Deutschland;X-A
 PPLE-RADIUS=100;X-TITLE=Hirsch\, Glems:geo:0,0
END:VEVENT
END:VCALENDAR