BEGIN:VCALENDAR
VERSION:2.0
PRODID:-//wp-events-plugin.com//7.2.3.1//EN
BEGIN:VEVENT
UID:1246@zbglems.de
DTSTART:20260226T160000Z
DTEND:20260226T210000Z
DTSTAMP:20260208T004119Z
URL:https://zbglems.de/veranstaltungen/musikquiz-4/
SUMMARY:Musikquiz
DESCRIPTION:offen ab 17.00 Uhr   (Küche warm..)\nSPIELSTART   18.00 Uh
 r  !!!!! 
ATTACH;FMTTYPE=image/jpeg:https://zbglems.de/wp-content/uploads/2025/10/mu
 sic-quiz-300x300-1.png
CATEGORIES:Veranstaltungen
LOCATION:Hirsch\, Glems\, Eninger Str. 11\, Metzingen Glems\, Baden- Württ
 emberg\, 72555\, Metzingen / Glems\, Deutschland
X-APPLE-STRUCTURED-LOCATION;VALUE=URI;X-ADDRESS=Eninger Str. 11\, Metzingen
  Glems\, Baden- Württemberg\, 72555\, Metzingen / Glems\, Deutschland;X-A
 PPLE-RADIUS=100;X-TITLE=Hirsch\, Glems:geo:0,0
END:VEVENT
END:VCALENDAR