BEGIN:VCALENDAR
VERSION:2.0
PRODID:-//wp-events-plugin.com//7.2.3.1//EN
BEGIN:VEVENT
UID:1256@zbglems.de
DTSTART:20260911T183000Z
DTEND:20260911T210000Z
DTSTAMP:20260217T181501Z
URL:https://zbglems.de/veranstaltungen/laura-evans/
SUMMARY:Laura Evans
DESCRIPTION:Laura Evans stammt aus den South Wales Valleys und hat sich sch
 nell zu einer der aufregendsten neuen Stimmen des modernen Blues und Roots
  Rock entwickelt. Mit ihrer Mischung aus feuriger Rockenergie\, gefühlvol
 len Geschichten und einer kraftvollen\, emotionalen Stimme begeistert Laur
 a das Publikum in ganz Europa. Ihre Musik verbindet die Energie des Blues 
 mit dem Storytelling des Country\, alles verpackt in eine atemberaubende R
 ock-and-Roll-Show.[su_spoiler title="mehr lesen" open="no"]\n\nMit über 4
  Millionen Streams weltweit und großer Unterstützung durch BBC Radio 2 v
 eröffentlicht Laura ihr mit Spannung erwartetes neues Album Out of the Da
 rk\, das ihre unverwechselbare Mischung aus Blues\, Roots und modernem Sou
 l präsentiert.\n\nMit herausragenden Singles wie „ATM“ und „Honest
 “ liefert Laura einen Sound\, der selbstbewusst\, rau und voller Herz is
 t. Ihre Live-Shows sind elektrisierend – eine Nacht voller Rock\, Blues 
 und gefühlvollen Geschichten\, die das Publikum begeistert und inspiriert
 .\n\nLaura Evans (voc)\, Joe Coombs (g)\, Daisy Pepper (b)\, Jamie Dawson 
 (dr)\n\n​Eintritt: 20 €\n[/su_spoiler]
ATTACH;FMTTYPE=image/jpeg:https://zbglems.de/wp-content/uploads/2026/02/53
 6279440_1352839113511174_3428502334531265810_n.jpg
CATEGORIES:Veranstaltungen
LOCATION:Hirsch\, Glems\, Eninger Str. 11\, Metzingen Glems\, Baden- Württ
 emberg\, 72555\, Metzingen / Glems\, Deutschland
X-APPLE-STRUCTURED-LOCATION;VALUE=URI;X-ADDRESS=Eninger Str. 11\, Metzingen
  Glems\, Baden- Württemberg\, 72555\, Metzingen / Glems\, Deutschland;X-A
 PPLE-RADIUS=100;X-TITLE=Hirsch\, Glems:geo:0,0
END:VEVENT
END:VCALENDAR