BEGIN:VCALENDAR
VERSION:2.0
PRODID:-//wp-events-plugin.com//7.2.3.1//EN
BEGIN:VEVENT
UID:1258@zbglems.de
DTSTART:20261017T183000Z
DTEND:20261017T210000Z
DTSTAMP:20260219T144103Z
URL:https://zbglems.de/veranstaltungen/katy-henry/
SUMMARY:Katy Henry
DESCRIPTION:Piano\, Gitarre\, solo oder mit ganzer Band\, Blues\, Singer/So
 ngwriter - man kann Katy Henry überall einreihen und sie ist überall ein
 e aussergewöhnliche Künstlerin. Wir haben einen neuen Stern am Rock/Blue
 s Himmel entdeckt\n\n[su_spoiler title="mehr lesen" open="no"]\n\n​Eintr
 itt: 18 €\n[/su_spoiler]
ATTACH;FMTTYPE=image/jpeg:https://zbglems.de/wp-content/uploads/2026/02/59
 4962336_25611888601782121_2842743060290091421_n.jpg
CATEGORIES:Veranstaltungen
LOCATION:Hirsch\, Glems\, Eninger Str. 11\, Metzingen Glems\, Baden- Württ
 emberg\, 72555\, Metzingen / Glems\, Deutschland
X-APPLE-STRUCTURED-LOCATION;VALUE=URI;X-ADDRESS=Eninger Str. 11\, Metzingen
  Glems\, Baden- Württemberg\, 72555\, Metzingen / Glems\, Deutschland;X-A
 PPLE-RADIUS=100;X-TITLE=Hirsch\, Glems:geo:0,0
END:VEVENT
END:VCALENDAR