BEGIN:VCALENDAR
VERSION:2.0
PRODID:-//wp-events-plugin.com//7.2.3.1//EN
BEGIN:VEVENT
UID:857@zbglems.de
DTSTART:20261226T183000Z
DTEND:20261226T210000Z
DTSTAMP:20260303T152702Z
URL:https://zbglems.de/veranstaltungen/ernest-the-hemingways-2/
SUMMARY:Ernest & the Hemingways
DESCRIPTION:\n\n\n\n\n\n&nbsp\;\n\n\n\n\n\n&nbsp\;\n\n[su_spoiler title="me
 hr lesen" open="no"]\n\nEintritt: 16 €\n[/su_spoiler]
ATTACH;FMTTYPE=image/jpeg:https://zbglems.de/wp-content/uploads/2022/08/E0
 04_1313x1200.jpg
CATEGORIES:Veranstaltungen
LOCATION:Hirsch\, Glems\, Eninger Str. 11\, Metzingen Glems\, Baden- Württ
 emberg\, 72555\, Metzingen / Glems\, Deutschland
X-APPLE-STRUCTURED-LOCATION;VALUE=URI;X-ADDRESS=Eninger Str. 11\, Metzingen
  Glems\, Baden- Württemberg\, 72555\, Metzingen / Glems\, Deutschland;X-A
 PPLE-RADIUS=100;X-TITLE=Hirsch\, Glems:geo:0,0
END:VEVENT
END:VCALENDAR