BEGIN:VCALENDAR
VERSION:2.0
PRODID:-//wp-events-plugin.com//7.2.3.1//EN
BEGIN:VEVENT
UID:1261@zbglems.de
DTSTART:20260606T170000Z
DTEND:20260606T213000Z
DTSTAMP:20260329T230046Z
URL:https://zbglems.de/veranstaltungen/einzel-binokelturnier/
SUMMARY:Einzel Binokelturnier
DESCRIPTION:der Hirsch ist am 18 Uhr geöffnet\nStartgebühr: 5 €
ATTACH;FMTTYPE=image/jpeg:https://zbglems.de/wp-content/uploads/2025/08/OI
 P.webp
CATEGORIES:Veranstaltungen
LOCATION:Hirsch\, Glems\, Eninger Str. 11\, Metzingen Glems\, Baden- Württ
 emberg\, 72555\, Metzingen / Glems\, Deutschland
X-APPLE-STRUCTURED-LOCATION;VALUE=URI;X-ADDRESS=Eninger Str. 11\, Metzingen
  Glems\, Baden- Württemberg\, 72555\, Metzingen / Glems\, Deutschland;X-A
 PPLE-RADIUS=100;X-TITLE=Hirsch\, Glems:geo:0,0
END:VEVENT
END:VCALENDAR